BEGIN:VCALENDAR
VERSION:2.0
PRODID:-//Wellesley Woodlands - ECPv6.15.20//NONSGML v1.0//EN
CALSCALE:GREGORIAN
METHOD:PUBLISH
X-WR-CALNAME:Wellesley Woodlands
X-ORIGINAL-URL:https://wellesleywoodlands.co.uk
X-WR-CALDESC:Events for Wellesley Woodlands
REFRESH-INTERVAL;VALUE=DURATION:PT1H
X-Robots-Tag:noindex
X-PUBLISHED-TTL:PT1H
BEGIN:VTIMEZONE
TZID:Europe/London
BEGIN:DAYLIGHT
TZOFFSETFROM:+0000
TZOFFSETTO:+0100
TZNAME:BST
DTSTART:20250330T010000
END:DAYLIGHT
BEGIN:STANDARD
TZOFFSETFROM:+0100
TZOFFSETTO:+0000
TZNAME:GMT
DTSTART:20251026T010000
END:STANDARD
BEGIN:DAYLIGHT
TZOFFSETFROM:+0000
TZOFFSETTO:+0100
TZNAME:BST
DTSTART:20260329T010000
END:DAYLIGHT
BEGIN:STANDARD
TZOFFSETFROM:+0100
TZOFFSETTO:+0000
TZNAME:GMT
DTSTART:20261025T010000
END:STANDARD
BEGIN:DAYLIGHT
TZOFFSETFROM:+0000
TZOFFSETTO:+0100
TZNAME:BST
DTSTART:20270328T010000
END:DAYLIGHT
BEGIN:STANDARD
TZOFFSETFROM:+0100
TZOFFSETTO:+0000
TZNAME:GMT
DTSTART:20271031T010000
END:STANDARD
END:VTIMEZONE
BEGIN:VEVENT
DTSTART;TZID=Europe/London:20260615T183000
DTEND;TZID=Europe/London:20260615T200000
DTSTAMP:20260423T205504
CREATED:20260204T134437Z
LAST-MODIFIED:20260204T134437Z
UID:2761-1781548200-1781553600@wellesleywoodlands.co.uk
SUMMARY:Evening Wildlife Walk
DESCRIPTION:Join Anna and Edwin to explore the trails around Wellesley Woodland in search of evening wildlife. \n6.30pm Meeting Point: Wellington Statue car park. \nAll are welcome on this leisurely walk with plenty of stops to explore the nature along the Beech & Plane Trails (map below) in search of dusk wildlife. This walk is a great opportunity to get outside in preparation for the Great Big Green Week (6th-14th June). \nThe event is FREE but we prefer that you book places so we know how many to expect. Please CANCEL if you can no longer attend as these events are very popular. \nPlease dress for the weather\, bring any refreshments you might like and wear comfortable shoes. \nFor further information and to book a place click here – Wellesley Woodlands Evening Wildlife Walk Tickets\, Mon\, Jun 15\, 2026 at 6:30 PM | Eventbrite
URL:https://wellesleywoodlands.co.uk/event/evening-wildlife-walk-20260615/
LOCATION:Wellington Statue car park (What 3 Words: gallons.twist.spoken)\, off Claycart Road\, Aldershot\, GU11 1QA
ATTACH;FMTTYPE=image/jpeg:https://wellesleywoodlands.co.uk/wp-content/uploads/IMG_8639.jpeg
END:VEVENT
END:VCALENDAR